BEGIN:VCALENDAR
VERSION:2.0
PRODID:-//Debrief Consultoria - ECPv6.15.13.1//NONSGML v1.0//EN
CALSCALE:GREGORIAN
METHOD:PUBLISH
X-ORIGINAL-URL:https://www.debrief.com.br
X-WR-CALDESC:Events for Debrief Consultoria
REFRESH-INTERVAL;VALUE=DURATION:PT1H
X-Robots-Tag:noindex
X-PUBLISHED-TTL:PT1H
BEGIN:VTIMEZONE
TZID:America/Sao_Paulo
BEGIN:STANDARD
TZOFFSETFROM:-0200
TZOFFSETTO:-0300
TZNAME:-03
DTSTART:20170219T020000
END:STANDARD
BEGIN:DAYLIGHT
TZOFFSETFROM:-0300
TZOFFSETTO:-0200
TZNAME:-02
DTSTART:20171015T030000
END:DAYLIGHT
BEGIN:STANDARD
TZOFFSETFROM:-0200
TZOFFSETTO:-0300
TZNAME:-03
DTSTART:20180218T020000
END:STANDARD
BEGIN:DAYLIGHT
TZOFFSETFROM:-0300
TZOFFSETTO:-0200
TZNAME:-02
DTSTART:20181104T030000
END:DAYLIGHT
BEGIN:STANDARD
TZOFFSETFROM:-0200
TZOFFSETTO:-0300
TZNAME:-03
DTSTART:20190217T020000
END:STANDARD
END:VTIMEZONE
BEGIN:VEVENT
DTSTART;TZID=America/Sao_Paulo:20181017T153000
DTEND;TZID=America/Sao_Paulo:20181017T160000
DTSTAMP:20260423T163532
CREATED:20180905T191743Z
LAST-MODIFIED:20191016T185926Z
UID:2288-1539790200-1539792000@www.debrief.com.br
SUMMARY:IT FORUM X - o maior palco do setor de TI brasileiro
DESCRIPTION:MARTECH – O que você precisa saber sobre a transformação digital em marketing e vendas\nDia 17/10 – 15h30 – Palco Business Technology\n\nNunca houve tanta presença de TI na execução das estratégias de marketing. Os orçamentos de marketing vêm crescendo e em 2016 as empresas investiram\, em média\, acima de 12% de seu faturamento em marketing. Desse total\, mais de 25% vem sendo atualmente investido em MARTECH (marketing tecnology).\n\nSeja na busca por conformidade com a GDPR (Global Data Privacy Regulation)\, ou na adoção de plataformas para gerir a imensa massa de dados criadas em operações com foco no cliente\, os números apontam para um cenário de profunda transformação na forma como as empresas gerenciam o ciclo de marketing – vendas – serviço em suas organizações.\n\nPara o gestor de negócios e tecnologia\, compreender o cenário martech é fundamental para navegar com segurança por entre as quase 7000 soluções e serviços atualmente catalogados como ‘marketing technologies’\, e que batem à porta do CMO (Chief Marketing Officer) todos os dias. A montagem de arquiteturas de martech estará no centro da discussão diária entre CMOs e CIOs nesta e nas próximas décadas.\n\nVocê está preparado? Nesta apresentação\, você vai conhecer os principais domínios de martech\, entender os desafios que levam empresas de todos os setores e tamanhos a investir em tecnologia para marketing e\, afinal\, como integrar tecnologias de marketing ao ecossistema de tecnologias existentes na organização – assim como olhar para o futuro próximo e contemplar temas como integração de marketing e vendas nos meios físico e digital\, inteligência artificial e machine learning aplicados a marketing\, automação de marketing e outros ‘temas do momento’ em martech.
URL:https://www.debrief.com.br/evento/it-forum-x-palestra-sobre/
LOCATION:Transamerica Expo Center\, Avenida Doutor Mário Vilas Boas Rodrigues\, 387\, Jardim Dom Bosco\, São Paulo\, SP\, Brasil
ATTACH;FMTTYPE=image/png:https://www.debrief.com.br/wp-content/uploads/img_itforumX.png
END:VEVENT
BEGIN:VEVENT
DTSTART;TZID=America/Sao_Paulo:20181016T080000
DTEND;TZID=America/Sao_Paulo:20181016T120000
DTSTAMP:20260423T163532
CREATED:20180904T221929Z
LAST-MODIFIED:20180905T202358Z
UID:2181-1539676800-1539691200@www.debrief.com.br
SUMMARY:SNE 2018 - Semana de Negócios e Empreendedorismo
DESCRIPTION:Dia 16/10 – 08h00 às 12:00 – No Forum de Transformação Digital \nComo parte da 6a SNE – Semana de Negócios e Empreendedorismo\, que acontece de 15 a 19 de outubro de 2018)\, a ACIC reunirá grandes especialistas para mostrar o passo a passo para a transformação digital acontecer em todas as áreas de sua empresa\, no Forum de Transformação Digital. \nNo dia 16/10\, o Fórum abordará Marketing e Vendas e a Debrief participará da palestra falando sobre os aspectos da tecnologia (transformação digital) do marketing e vendas ao atendimento do cliente\, debatendo com um público ávido por crescimento e aprendizado\, e que aprecia um ‘papo reto’ sobre o atual cenário tecnológico e de negócios\, para saber usar com inteligência os recursos de que dispõe – talentos\, tecnologia\, dinheiro e tempo.  \nRecomendado a empreendedores de seus próprios negócios e também aos que buscam a via empreendedora dentro de grandes organizações.
URL:https://www.debrief.com.br/evento/sne-2018-semana-de-negocios-e-empreendedorismo/
LOCATION:Vitória Hotel\, Av. José de Souza Campos\, 425 - Nova Campinas\, Campinas\, SP\, Brasil
ATTACH;FMTTYPE=image/png:https://www.debrief.com.br/wp-content/uploads/semanane2.png
END:VEVENT
BEGIN:VEVENT
DTSTART;VALUE=DATE:20180423
DTEND;VALUE=DATE:20180426
DTSTAMP:20260423T163532
CREATED:20180118T195001Z
LAST-MODIFIED:20180905T202408Z
UID:194-1524441600-1524700799@www.debrief.com.br
SUMMARY:MARTECH WEST 2018 - Marketing\, Technology and Management Conference
DESCRIPTION:
URL:https://www.debrief.com.br/evento/martech-conference-2018/
LOCATION:San Jose Convention Center\, San Jose\, CA\, Estados Unidos
ATTACH;FMTTYPE=image/jpeg:https://www.debrief.com.br/wp-content/uploads/20180501_martech_conference_logo.jpg
END:VEVENT
END:VCALENDAR